BEGIN:VCALENDAR
VERSION:2.0
PRODID:-//RCCG LIVING WATER PARISH - ECPv6.15.20//NONSGML v1.0//EN
CALSCALE:GREGORIAN
METHOD:PUBLISH
X-WR-CALNAME:RCCG LIVING WATER PARISH
X-ORIGINAL-URL:https://rccglwp.org
X-WR-CALDESC:Events for RCCG LIVING WATER PARISH
REFRESH-INTERVAL;VALUE=DURATION:PT1H
X-Robots-Tag:noindex
X-PUBLISHED-TTL:PT1H
BEGIN:VTIMEZONE
TZID:Europe/London
BEGIN:DAYLIGHT
TZOFFSETFROM:+0000
TZOFFSETTO:+0100
TZNAME:BST
DTSTART:20230326T010000
END:DAYLIGHT
BEGIN:STANDARD
TZOFFSETFROM:+0100
TZOFFSETTO:+0000
TZNAME:GMT
DTSTART:20231029T010000
END:STANDARD
BEGIN:DAYLIGHT
TZOFFSETFROM:+0000
TZOFFSETTO:+0100
TZNAME:BST
DTSTART:20240331T010000
END:DAYLIGHT
BEGIN:STANDARD
TZOFFSETFROM:+0100
TZOFFSETTO:+0000
TZNAME:GMT
DTSTART:20241027T010000
END:STANDARD
BEGIN:DAYLIGHT
TZOFFSETFROM:+0000
TZOFFSETTO:+0100
TZNAME:BST
DTSTART:20250330T010000
END:DAYLIGHT
BEGIN:STANDARD
TZOFFSETFROM:+0100
TZOFFSETTO:+0000
TZNAME:GMT
DTSTART:20251026T010000
END:STANDARD
END:VTIMEZONE
BEGIN:VEVENT
DTSTART;VALUE=DATE:20241020
DTEND;VALUE=DATE:20241021
DTSTAMP:20260421T223437
CREATED:20240524T230326Z
LAST-MODIFIED:20240524T230326Z
UID:2020-1729382400-1729468799@rccglwp.org
SUMMARY:SPECIAL PRAYERS
DESCRIPTION:
URL:https://rccglwp.org/event/special-prayers/
END:VEVENT
BEGIN:VEVENT
DTSTART;VALUE=DATE:20241020
DTEND;VALUE=DATE:20241021
DTSTAMP:20260421T223437
CREATED:20240524T230416Z
LAST-MODIFIED:20240524T230416Z
UID:2022-1729382400-1729468799@rccglwp.org
SUMMARY:CHILDREN’S DAY SERVICE
DESCRIPTION:
URL:https://rccglwp.org/event/childrens-day-service/
END:VEVENT
BEGIN:VEVENT
DTSTART;VALUE=DATE:20241020
DTEND;VALUE=DATE:20241021
DTSTAMP:20260421T223437
CREATED:20240524T230438Z
LAST-MODIFIED:20240524T230438Z
UID:2024-1729382400-1729468799@rccglwp.org
SUMMARY:YOUNG ADULTS MEETING
DESCRIPTION:
URL:https://rccglwp.org/event/young-adults-meeting-3/
END:VEVENT
BEGIN:VEVENT
DTSTART;VALUE=DATE:20241020
DTEND;VALUE=DATE:20241021
DTSTAMP:20260421T223437
CREATED:20240524T230507Z
LAST-MODIFIED:20240524T230507Z
UID:2026-1729382400-1729468799@rccglwp.org
SUMMARY:HOUSE FELLOWSHIP
DESCRIPTION:
URL:https://rccglwp.org/event/house-fellowship-4/
END:VEVENT
END:VCALENDAR