BEGIN:VCALENDAR
VERSION:2.0
PRODID:-//RCCG LIVING WATER PARISH - ECPv6.15.20//NONSGML v1.0//EN
CALSCALE:GREGORIAN
METHOD:PUBLISH
X-ORIGINAL-URL:https://rccglwp.org
X-WR-CALDESC:Events for RCCG LIVING WATER PARISH
REFRESH-INTERVAL;VALUE=DURATION:PT1H
X-Robots-Tag:noindex
X-PUBLISHED-TTL:PT1H
BEGIN:VTIMEZONE
TZID:Europe/London
BEGIN:DAYLIGHT
TZOFFSETFROM:+0000
TZOFFSETTO:+0100
TZNAME:BST
DTSTART:20230326T010000
END:DAYLIGHT
BEGIN:STANDARD
TZOFFSETFROM:+0100
TZOFFSETTO:+0000
TZNAME:GMT
DTSTART:20231029T010000
END:STANDARD
BEGIN:DAYLIGHT
TZOFFSETFROM:+0000
TZOFFSETTO:+0100
TZNAME:BST
DTSTART:20240331T010000
END:DAYLIGHT
BEGIN:STANDARD
TZOFFSETFROM:+0100
TZOFFSETTO:+0000
TZNAME:GMT
DTSTART:20241027T010000
END:STANDARD
BEGIN:DAYLIGHT
TZOFFSETFROM:+0000
TZOFFSETTO:+0100
TZNAME:BST
DTSTART:20250330T010000
END:DAYLIGHT
BEGIN:STANDARD
TZOFFSETFROM:+0100
TZOFFSETTO:+0000
TZNAME:GMT
DTSTART:20251026T010000
END:STANDARD
END:VTIMEZONE
BEGIN:VEVENT
DTSTART;VALUE=DATE:20241224
DTEND;VALUE=DATE:20241227
DTSTAMP:20260421T223513
CREATED:20240525T003142Z
LAST-MODIFIED:20240525T003142Z
UID:2090-1734998400-1735257599@rccglwp.org
SUMMARY:CONTINENTAL LET’S GO A FISHING
DESCRIPTION:
URL:https://rccglwp.org/event/continental-lets-go-a-fishing/
END:VEVENT
BEGIN:VEVENT
DTSTART;VALUE=DATE:20241226
DTEND;VALUE=DATE:20241227
DTSTAMP:20260421T223513
CREATED:20240525T003252Z
LAST-MODIFIED:20240525T003252Z
UID:2094-1735171200-1735257599@rccglwp.org
SUMMARY:BOXING DAY
DESCRIPTION:
URL:https://rccglwp.org/event/boxing-day/
END:VEVENT
END:VCALENDAR