BEGIN:VCALENDAR
VERSION:2.0
PRODID:-//RCCG LIVING WATER PARISH - ECPv6.15.20//NONSGML v1.0//EN
CALSCALE:GREGORIAN
METHOD:PUBLISH
X-WR-CALNAME:RCCG LIVING WATER PARISH
X-ORIGINAL-URL:https://rccglwp.org
X-WR-CALDESC:Events for RCCG LIVING WATER PARISH
REFRESH-INTERVAL;VALUE=DURATION:PT1H
X-Robots-Tag:noindex
X-PUBLISHED-TTL:PT1H
BEGIN:VTIMEZONE
TZID:Europe/London
BEGIN:DAYLIGHT
TZOFFSETFROM:+0000
TZOFFSETTO:+0100
TZNAME:BST
DTSTART:20230326T010000
END:DAYLIGHT
BEGIN:STANDARD
TZOFFSETFROM:+0100
TZOFFSETTO:+0000
TZNAME:GMT
DTSTART:20231029T010000
END:STANDARD
BEGIN:DAYLIGHT
TZOFFSETFROM:+0000
TZOFFSETTO:+0100
TZNAME:BST
DTSTART:20240331T010000
END:DAYLIGHT
BEGIN:STANDARD
TZOFFSETFROM:+0100
TZOFFSETTO:+0000
TZNAME:GMT
DTSTART:20241027T010000
END:STANDARD
BEGIN:DAYLIGHT
TZOFFSETFROM:+0000
TZOFFSETTO:+0100
TZNAME:BST
DTSTART:20250330T010000
END:DAYLIGHT
BEGIN:STANDARD
TZOFFSETFROM:+0100
TZOFFSETTO:+0000
TZNAME:GMT
DTSTART:20251026T010000
END:STANDARD
END:VTIMEZONE
BEGIN:VEVENT
DTSTART;VALUE=DATE:20240901
DTEND;VALUE=DATE:20240902
DTSTAMP:20260421T223450
CREATED:20240524T223216Z
LAST-MODIFIED:20240524T223216Z
UID:1972-1725148800-1725235199@rccglwp.org
SUMMARY:THANKSGIVING SERVICE
DESCRIPTION:
URL:https://rccglwp.org/event/thanksgiving-service-5/
END:VEVENT
BEGIN:VEVENT
DTSTART;VALUE=DATE:20240901
DTEND;VALUE=DATE:20240902
DTSTAMP:20260421T223450
CREATED:20240524T223302Z
LAST-MODIFIED:20240524T223302Z
UID:1974-1725148800-1725235199@rccglwp.org
SUMMARY:JOALT HANGOUT
DESCRIPTION:
URL:https://rccglwp.org/event/joalt-hangout-4/
END:VEVENT
BEGIN:VEVENT
DTSTART;VALUE=DATE:20240906
DTEND;VALUE=DATE:20240907
DTSTAMP:20260421T223450
CREATED:20240524T223948Z
LAST-MODIFIED:20240524T223948Z
UID:1978-1725580800-1725667199@rccglwp.org
SUMMARY:HOLY GHOST SERVICE (NIGERIA)
DESCRIPTION:
URL:https://rccglwp.org/event/holy-ghost-service-nigeria-4/
END:VEVENT
BEGIN:VEVENT
DTSTART;VALUE=DATE:20240908
DTEND;VALUE=DATE:20240909
DTSTAMP:20260421T223450
CREATED:20240524T223829Z
LAST-MODIFIED:20240524T223829Z
UID:1976-1725753600-1725839999@rccglwp.org
SUMMARY:YORUBA SERVICE
DESCRIPTION:
URL:https://rccglwp.org/event/yoruba-service-4/
END:VEVENT
BEGIN:VEVENT
DTSTART;VALUE=DATE:20240913
DTEND;VALUE=DATE:20240914
DTSTAMP:20260421T223450
CREATED:20240524T224045Z
LAST-MODIFIED:20240524T224045Z
UID:1980-1726185600-1726271999@rccglwp.org
SUMMARY:FESTIVAL OF LIFE (FOL) LONDON\, UNITED KINGDOM
DESCRIPTION:
URL:https://rccglwp.org/event/festival-of-life-fol-london-united-kingdom/
END:VEVENT
BEGIN:VEVENT
DTSTART;VALUE=DATE:20240915
DTEND;VALUE=DATE:20240916
DTSTAMP:20260421T223450
CREATED:20240524T224219Z
LAST-MODIFIED:20240524T224219Z
UID:1982-1726358400-1726444799@rccglwp.org
SUMMARY:PRESERVE YOUR SEED
DESCRIPTION:
URL:https://rccglwp.org/event/preserve-your-seed-4/
END:VEVENT
BEGIN:VEVENT
DTSTART;VALUE=DATE:20240915
DTEND;VALUE=DATE:20240916
DTSTAMP:20260421T223450
CREATED:20240524T224442Z
LAST-MODIFIED:20240524T224442Z
UID:1984-1726358400-1726444799@rccglwp.org
SUMMARY:YOUNG ADULTS MEETING
DESCRIPTION:
URL:https://rccglwp.org/event/young-adults-meeting-2/
END:VEVENT
BEGIN:VEVENT
DTSTART;VALUE=DATE:20240915
DTEND;VALUE=DATE:20240916
DTSTAMP:20260421T223450
CREATED:20240524T224600Z
LAST-MODIFIED:20240524T224600Z
UID:1986-1726358400-1726444799@rccglwp.org
SUMMARY:HOUSE FELLOWSHIP
DESCRIPTION:
URL:https://rccglwp.org/event/house-fellowship-3/
END:VEVENT
BEGIN:VEVENT
DTSTART;VALUE=DATE:20240917
DTEND;VALUE=DATE:20240918
DTSTAMP:20260421T223450
CREATED:20240524T224636Z
LAST-MODIFIED:20240524T224636Z
UID:1988-1726531200-1726617599@rccglwp.org
SUMMARY:RCCG UK ANNUAL GENERAL MEETING (AGM)
DESCRIPTION:
URL:https://rccglwp.org/event/rccg-uk-annual-general-meeting-agm/
END:VEVENT
BEGIN:VEVENT
DTSTART;VALUE=DATE:20240917
DTEND;VALUE=DATE:20240918
DTSTAMP:20260421T223450
CREATED:20240524T224740Z
LAST-MODIFIED:20240524T224740Z
UID:1990-1726531200-1726617599@rccglwp.org
SUMMARY:RCCG WORKERS’ RALLY (TO BE CONFIRMED)
DESCRIPTION:
URL:https://rccglwp.org/event/rccg-workers-rally-to-be-confirmed/
END:VEVENT
BEGIN:VEVENT
DTSTART;VALUE=DATE:20240919
DTEND;VALUE=DATE:20240920
DTSTAMP:20260421T223450
CREATED:20240524T224900Z
LAST-MODIFIED:20240524T224900Z
UID:1992-1726704000-1726790399@rccglwp.org
SUMMARY:FESTIVAL OF LIFE (FOL) & COVENANT PARTNERS’ RECEPTION (UNITED KINGDOM)  (TO BE CONFIRMED)
DESCRIPTION:
URL:https://rccglwp.org/event/festival-of-life-fol-covenant-partners-reception-united-kingdom-to-be-confirmed/
END:VEVENT
BEGIN:VEVENT
DTSTART;VALUE=DATE:20240921
DTEND;VALUE=DATE:20240922
DTSTAMP:20260421T223450
CREATED:20240524T225118Z
LAST-MODIFIED:20240524T225118Z
UID:1994-1726876800-1726963199@rccglwp.org
SUMMARY:RCCG UK SCHOOLS’ GRADUATION CEREMONIES
DESCRIPTION:
URL:https://rccglwp.org/event/rccg-uk-schools-graduation-ceremonies/
END:VEVENT
BEGIN:VEVENT
DTSTART;VALUE=DATE:20240921
DTEND;VALUE=DATE:20240922
DTSTAMP:20260421T223450
CREATED:20240524T225204Z
LAST-MODIFIED:20240524T225204Z
UID:1996-1726876800-1726963199@rccglwp.org
SUMMARY:ORDINATION SERVICE (TO BE CONFIRMED)
DESCRIPTION:
URL:https://rccglwp.org/event/ordination-service-to-be-confirmed/
END:VEVENT
BEGIN:VEVENT
DTSTART;VALUE=DATE:20240927
DTEND;VALUE=DATE:20240928
DTSTAMP:20260421T223450
CREATED:20240524T225239Z
LAST-MODIFIED:20240524T225239Z
UID:1998-1727395200-1727481599@rccglwp.org
SUMMARY:VIGIL & HOLY COMMUNION SERVICE
DESCRIPTION:
URL:https://rccglwp.org/event/vigil-holy-communion-service-4/
END:VEVENT
BEGIN:VEVENT
DTSTART;VALUE=DATE:20240929
DTEND;VALUE=DATE:20240930
DTSTAMP:20260421T223450
CREATED:20240524T225330Z
LAST-MODIFIED:20240524T225330Z
UID:2000-1727568000-1727654399@rccglwp.org
SUMMARY:ANOINTING SERVICE
DESCRIPTION:
URL:https://rccglwp.org/event/anointing-service-5/
END:VEVENT
BEGIN:VEVENT
DTSTART;VALUE=DATE:20240929
DTEND;VALUE=DATE:20240930
DTSTAMP:20260421T223450
CREATED:20240524T225404Z
LAST-MODIFIED:20240524T225404Z
UID:2002-1727568000-1727654399@rccglwp.org
SUMMARY:IGBO SERVICE
DESCRIPTION:
URL:https://rccglwp.org/event/igbo-service-2/
END:VEVENT
END:VCALENDAR